BEGIN:VCALENDAR
VERSION:2.0
PRODID:-//Paracha Entertainment - ECPv4.6.10.1//NONSGML v1.0//EN
CALSCALE:GREGORIAN
METHOD:PUBLISH
X-WR-CALNAME:Paracha Entertainment
X-ORIGINAL-URL:https://parachaentertainment.com
X-WR-CALDESC:Events for Paracha Entertainment
BEGIN:VEVENT
DTSTART;TZID=UTC+0:20160513T200000
DTEND;TZID=UTC+0:20160513T230000
DTSTAMP:20260422T172014
CREATED:20180325T183812Z
LAST-MODIFIED:20180325T184532Z
UID:581-1463169600-1463180400@parachaentertainment.com
SUMMARY:SHANKAR EHSAAN LOY
DESCRIPTION:
URL:https://parachaentertainment.com/event/shankar-ehsaan-loy/
CATEGORIES:hometop
ATTACH;FMTTYPE=image/jpeg:https://parachaentertainment.com/wp-content/uploads/2018/03/pastevent12.jpg
END:VEVENT
END:VCALENDAR