BEGIN:VCALENDAR
VERSION:2.0
PRODID:-//Paracha Entertainment - ECPv4.6.10.1//NONSGML v1.0//EN
CALSCALE:GREGORIAN
METHOD:PUBLISH
X-WR-CALNAME:Paracha Entertainment
X-ORIGINAL-URL:https://parachaentertainment.com
X-WR-CALDESC:Events for Paracha Entertainment
BEGIN:VEVENT
DTSTART;TZID=UTC+0:20170414T200000
DTEND;TZID=UTC+0:20170414T220000
DTSTAMP:20260421T101524
CREATED:20180325T173500Z
LAST-MODIFIED:20180325T173700Z
UID:559-1492200000-1492207200@parachaentertainment.com
SUMMARY:MIKA SINGH INDIANAPOLIS
DESCRIPTION:
URL:https://parachaentertainment.com/event/mika-singh-indianapolis/
CATEGORIES:hometop
ATTACH;FMTTYPE=image/jpeg:https://parachaentertainment.com/wp-content/uploads/2018/03/pastevent06.jpg
END:VEVENT
END:VCALENDAR